BEGIN:VCALENDAR
VERSION:2.0
PRODID:-//Rotary Club of Port Macquarie - ECPv4.5.7//NONSGML v1.0//EN
CALSCALE:GREGORIAN
METHOD:PUBLISH
X-WR-CALNAME:Rotary Club of Port Macquarie
X-ORIGINAL-URL:http://www.rotaryclubportmacquarie.com.au
X-WR-CALDESC:Events for Rotary Club of Port Macquarie
BEGIN:VEVENT
DTSTART;TZID=Australia/Sydney:20180131T173000
DTEND;TZID=Australia/Sydney:20180131T200000
DTSTAMP:20180226T075911
CREATED:20180127T221422Z
LAST-MODIFIED:20180127T221422Z
UID:1128-1517419800-1517428800@www.rotaryclubportmacquarie.com.au
SUMMARY:Dinner Meeting - Club Assembly
DESCRIPTION:Program Chair: President John \nWelcomer: Doug Heagney \n3 on Me: Phil Perry \nSergeant: Kerry Medway \n
URL:http://www.rotaryclubportmacquarie.com.au/event/dinner-meeting-club-assembly/
LOCATION:1 Bay St \, Port Macquarie\, NSW\, 2444\, Australia
END:VEVENT
BEGIN:VEVENT
DTSTART;TZID=Australia/Sydney:20180207T173000
DTEND;TZID=Australia/Sydney:20180207T200000
DTSTAMP:20180226T075911
CREATED:20180127T221912Z
LAST-MODIFIED:20180127T221912Z
UID:1130-1518024600-1518033600@www.rotaryclubportmacquarie.com.au
SUMMARY:Dinner Meeting - Mayo Home Nursing - Club Photo
DESCRIPTION:Speaker: Grant Woodlands \nProgram Chair: Mavis Wallace \nWelcomer: Michael Lawrence \n3 on Me: Lorraine Beukers \nSergeant: Lyn Bowen \n
URL:http://www.rotaryclubportmacquarie.com.au/event/dinner-meeting-mayo-home-nursing-club-photo/
LOCATION:1 Bay St \, Port Macquarie\, NSW\, 2444\, Australia
END:VEVENT
BEGIN:VEVENT
DTSTART;VALUE=DATE:20180214
DTEND;VALUE=DATE:20180214
DTSTAMP:20180226T075911
CREATED:20180127T222100Z
LAST-MODIFIED:20180127T222100Z
UID:1132-1518566400-1518652799@www.rotaryclubportmacquarie.com.au
SUMMARY:Board Meeting (no club meeting)
DESCRIPTION:
URL:http://www.rotaryclubportmacquarie.com.au/event/board-meeting-no-club-meeting/
LOCATION:1 Bay St \, Port Macquarie\, NSW\, 2444\, Australia
END:VEVENT
BEGIN:VEVENT
DTSTART;VALUE=DATE:20180216
DTEND;VALUE=DATE:20180218
DTSTAMP:20180226T075911
CREATED:20180127T222301Z
LAST-MODIFIED:20180127T222301Z
UID:1134-1518739200-1518998399@www.rotaryclubportmacquarie.com.au
SUMMARY:Parking @ TOUCH FOOTBALL
DESCRIPTION:Volunteer Roster – see Ray White \n
URL:http://www.rotaryclubportmacquarie.com.au/event/parking-touch-football/
LOCATION:NSW
END:VEVENT
BEGIN:VEVENT
DTSTART;VALUE=DATE:20180221
DTEND;VALUE=DATE:20180221
DTSTAMP:20180226T075911
CREATED:20180208T035512Z
LAST-MODIFIED:20180208T035512Z
UID:1143-1519171200-1519257599@www.rotaryclubportmacquarie.com.au
SUMMARY:NO CLUB MEETING - Transferred to Thursday 22nd
DESCRIPTION:
URL:http://www.rotaryclubportmacquarie.com.au/event/no-club-meeting-transferred-thursday-22nd/
LOCATION:NSW
END:VEVENT
BEGIN:VEVENT
DTSTART;TZID=Australia/Sydney:20180222T173000
DTEND;TZID=Australia/Sydney:20180222T203000
DTSTAMP:20180226T075911
CREATED:20180208T040300Z
LAST-MODIFIED:20180208T040300Z
UID:1145-1519320600-1519331400@www.rotaryclubportmacquarie.com.au
SUMMARY:GSE Team visit from UGANDA
DESCRIPTION: \nCombined clubs meet hosted by Port Macquarie Rotary Club \n
URL:http://www.rotaryclubportmacquarie.com.au/event/gse-team-visit-uganda/
LOCATION:1 Bay St \, Port Macquarie\, NSW\, 2444\, Australia
END:VEVENT
BEGIN:VEVENT
DTSTART;TZID=Australia/Sydney:20180228T170000
DTEND;TZID=Australia/Sydney:20180228T193000
DTSTAMP:20180226T075911
CREATED:20180208T041202Z
LAST-MODIFIED:20180208T042242Z
UID:1148-1519837200-1519846200@www.rotaryclubportmacquarie.com.au
SUMMARY:Vocational Visit to Dahlsford Lifestyle Village
DESCRIPTION:  \n \n
URL:http://www.rotaryclubportmacquarie.com.au/event/vocational-visit-dahlsford-lifestyle-village/
LOCATION:1-5 Greenmeadows Dr\, Port Macquarie\, NSW\, 2444\, Australia
END:VEVENT
BEGIN:VEVENT
DTSTART;VALUE=DATE:20180301
DTEND;VALUE=DATE:20180304
DTSTAMP:20180226T075911
CREATED:20170701T001304Z
LAST-MODIFIED:20170701T001304Z
UID:823-1519862400-1520207999@www.rotaryclubportmacquarie.com.au
SUMMARY:Rotary BOOK Sale
DESCRIPTION: \n
URL:http://www.rotaryclubportmacquarie.com.au/event/rotary-book-sale-2/
LOCATION:1 Bay St \, Port Macquarie\, NSW\, 2444\, Australia
END:VEVENT
END:VCALENDAR